BEGIN:VCALENDAR
VERSION:2.0
PRODID:-//CRCC Oregon - ECPv6.15.20//NONSGML v1.0//EN
CALSCALE:GREGORIAN
METHOD:PUBLISH
X-ORIGINAL-URL:https://crccoregon.com
X-WR-CALDESC:Events for CRCC Oregon
REFRESH-INTERVAL;VALUE=DURATION:PT1H
X-Robots-Tag:noindex
X-PUBLISHED-TTL:PT1H
BEGIN:VTIMEZONE
TZID:America/Los_Angeles
BEGIN:DAYLIGHT
TZOFFSETFROM:-0800
TZOFFSETTO:-0700
TZNAME:PDT
DTSTART:20230312T100000
END:DAYLIGHT
BEGIN:STANDARD
TZOFFSETFROM:-0700
TZOFFSETTO:-0800
TZNAME:PST
DTSTART:20231105T090000
END:STANDARD
BEGIN:DAYLIGHT
TZOFFSETFROM:-0800
TZOFFSETTO:-0700
TZNAME:PDT
DTSTART:20240310T100000
END:DAYLIGHT
BEGIN:STANDARD
TZOFFSETFROM:-0700
TZOFFSETTO:-0800
TZNAME:PST
DTSTART:20241103T090000
END:STANDARD
BEGIN:DAYLIGHT
TZOFFSETFROM:-0800
TZOFFSETTO:-0700
TZNAME:PDT
DTSTART:20250309T100000
END:DAYLIGHT
BEGIN:STANDARD
TZOFFSETFROM:-0700
TZOFFSETTO:-0800
TZNAME:PST
DTSTART:20251102T090000
END:STANDARD
BEGIN:DAYLIGHT
TZOFFSETFROM:-0800
TZOFFSETTO:-0700
TZNAME:PDT
DTSTART:20260308T100000
END:DAYLIGHT
BEGIN:STANDARD
TZOFFSETFROM:-0700
TZOFFSETTO:-0800
TZNAME:PST
DTSTART:20261101T090000
END:STANDARD
END:VTIMEZONE
BEGIN:VEVENT
DTSTART;TZID=America/Los_Angeles:20251118T180000
DTEND;TZID=America/Los_Angeles:20251118T200000
DTSTAMP:20260423T103030
CREATED:20251116T011926Z
LAST-MODIFIED:20251116T011938Z
UID:251-1763488800-1763496000@crccoregon.com
SUMMARY:CRCC Annual Membership Meeting
DESCRIPTION:The 2025 Membership meeting will be located at the Happy Valley Community Church.\nThis meeting is open to the Resident Owned Community membership of Clackamas River Community Cooperative.
URL:https://crccoregon.com/event/crcc-annual-membership-meeting/
LOCATION:Happy Valley Community Church\, 10601 SE 129th Ave\, Happy Valley\, OR\, 97086\, United States
END:VEVENT
BEGIN:VEVENT
DTSTART;TZID=America/Los_Angeles:20240416T180000
DTEND;TZID=America/Los_Angeles:20240416T200000
DTSTAMP:20260423T103030
CREATED:20240325T060641Z
LAST-MODIFIED:20240408T013417Z
UID:245-1713290400-1713297600@crccoregon.com
SUMMARY:April 2024 Board Meeting
DESCRIPTION:This is the Monthly Board meeting open to all CRCC members and residents only. \n  \nSee the Community Bulletin board for Google Meet link to attend Virtually.
URL:https://crccoregon.com/event/april-2024-board-meeting/
LOCATION:Clackamas Community Club\, 15711 SE 90th Ave\, Clackamas\, OR - Oregon\, 97015
END:VEVENT
BEGIN:VEVENT
DTSTART;TZID=America/Los_Angeles:20240324T093000
DTEND;TZID=America/Los_Angeles:20240324T120000
DTSTAMP:20260423T103030
CREATED:20240325T040943Z
LAST-MODIFIED:20240325T040948Z
UID:241-1711272600-1711281600@crccoregon.com
SUMMARY:Member Workday
DESCRIPTION:Workday goals: \n\nImprovements to entrance\nweeding-bark and gravel.\nRV lot and moss planning.\nHuckleberry Park entrance clean up.
URL:https://crccoregon.com/event/member-workday/
LOCATION:CRCC\, 16442 Southeast 135th Avenue\, Clackamas\, OR\, 97015\, United States
END:VEVENT
BEGIN:VEVENT
DTSTART;TZID=America/Los_Angeles:20240319T180000
DTEND;TZID=America/Los_Angeles:20240319T200000
DTSTAMP:20260423T103030
CREATED:20240325T040326Z
LAST-MODIFIED:20240325T040333Z
UID:237-1710871200-1710878400@crccoregon.com
SUMMARY:Board Meeting
DESCRIPTION:This is the Monthly Board meeting open to all CRCC members and residents only.
URL:https://crccoregon.com/event/board-meeting/
LOCATION:Clackamas Community Club\, 15711 SE 90th Ave\, Clackamas\, OR - Oregon\, 97015
END:VEVENT
END:VCALENDAR